BEGIN:VCALENDAR
VERSION:2.0
PRODID:-//Klassiekerrally.nl - ECPv6.15.20//NONSGML v1.0//EN
CALSCALE:GREGORIAN
METHOD:PUBLISH
X-ORIGINAL-URL:https://klassiekerrally.nl
X-WR-CALDESC:Evenementen voor Klassiekerrally.nl
REFRESH-INTERVAL;VALUE=DURATION:PT1H
X-Robots-Tag:noindex
X-PUBLISHED-TTL:PT1H
BEGIN:VTIMEZONE
TZID:Europe/Amsterdam
BEGIN:DAYLIGHT
TZOFFSETFROM:+0100
TZOFFSETTO:+0200
TZNAME:CEST
DTSTART:20240331T010000
END:DAYLIGHT
BEGIN:STANDARD
TZOFFSETFROM:+0200
TZOFFSETTO:+0100
TZNAME:CET
DTSTART:20241027T010000
END:STANDARD
BEGIN:DAYLIGHT
TZOFFSETFROM:+0100
TZOFFSETTO:+0200
TZNAME:CEST
DTSTART:20250330T010000
END:DAYLIGHT
BEGIN:STANDARD
TZOFFSETFROM:+0200
TZOFFSETTO:+0100
TZNAME:CET
DTSTART:20251026T010000
END:STANDARD
BEGIN:DAYLIGHT
TZOFFSETFROM:+0100
TZOFFSETTO:+0200
TZNAME:CEST
DTSTART:20260329T010000
END:DAYLIGHT
BEGIN:STANDARD
TZOFFSETFROM:+0200
TZOFFSETTO:+0100
TZNAME:CET
DTSTART:20261025T010000
END:STANDARD
END:VTIMEZONE
BEGIN:VEVENT
DTSTART;TZID=Europe/Amsterdam:20251102T110000
DTEND;TZID=Europe/Amsterdam:20251102T170000
DTSTAMP:20260424T094026
CREATED:20251020T172713Z
LAST-MODIFIED:20251020T172713Z
UID:20683-1762081200-1762102800@klassiekerrally.nl
SUMMARY:Vintagedag Eibergen 2025
DESCRIPTION:Naast de gewone najaarsmarkt is er in Eibergen dit jaar voor de 2e keer een Vintage dag. Vorig jaar was de eerste editie van de Vintagedag bij Halloweekend in Eibergen een groot succes dus dat gaan ze dit jaar weer doen. Vorig jaar deden 75 oldtimers bezitters mee aan de “static” in het centrum. Overal in het centrum aangesloten aan de markt\, stonden vele verschillende voertuigen tentoongesteld.   Er is muziek in de stijl van toen\, en o.a. de Vrienden van de piepende wielen (antieke kinderwagens) en de battle tanks (miniatuur tankjes) zijn te bekijken die dag. \n \nOldtimer rit door de Achterhoek\nDit jaar is er voor de oldtimer bezitter ook de kans om eerst een mooie rit te rijden door de Achterhoek. Hierna verzamelen de deelnemers zich en rijden gezamenlijk naar het centrum\, hier worden de deelnemers voorgesteld aan het publiek door de mensen van de ACTronics Berkelland Rally. Om hierna een plekje in te nemen op de markt zodat de bezoekers alle prachtige oldtimers kunnen bewonderen. \n          \nAanmelden kan nog t/m 25 Oktober voor de rit en/of de static op halloweekendeibergen.nl en dan de gele knop: aanmelden oldtimers.\nDeelname aan de rit kost €5\,00 pp incl koffie bonnen\, een lunchpakket\, een bedankje en een broodje hamburger na afloop. \n \nDeelname aan de static is geheel gratis per voertuig krijgt u voor de bestuurder en max 1 bijrijder een lunchpakket\, koffie bonnen en een bedankje. Deelnemers voor de static worden vooraf aan de markt een plekje toegewezen.
URL:https://klassiekerrally.nl/event/vintagedag-eibergen-2025/
LOCATION:Eibergen\, Markt\, Eibergen\, Netherlands
CATEGORIES:Meeting,Toer- of kaartleesrit
END:VEVENT
END:VCALENDAR